Workbook
Name BasicMinMemory: Initial!$G$7
Name BytesPerJobDefinition: Initial!$G$2
Name BytesPerJobInTheGraph: Initial!$G$8
Name BytesPerJobRun: Initial!$G$5
Name DaysOfHistoryRetention: 'AAI Sizing'!$C$9
Name HoursOfCompletedRunsInMemory: 'AAI Sizing'!$C$10
Name HoursOfForecastedRunsInMemory: 'AAI Sizing'!$C$11
Name IWSJobCountInitial: Initial!$B$4
Name IWSJobCountY1: 'Y1'!$B$4
Name JobCountGrowthPerYear: 'AAI Sizing'!$C$5
Name JobCountNonIWS: Initial!$B$3
Name JobCountY1: 'Y1'!$B$3
Name JobDefinitionCountIWS: 'AAI Sizing'!$C$4
Name JobDefinitionCountNonIWS: 'AAI Sizing'!$C$3
Name JobRunsPerDay: 'AAI Sizing'!$C$7
Name JobRunsPerDayInitial: 'AAI Sizing'!$C$7
Name JobRunsPerDayY1: 'AAI Sizing'!$D$7
Name JobRunsPerDayY2: 'AAI Sizing'!$E$7
Name JobRunsPerDayY3: 'AAI Sizing'!$F$7
Name JobRunsPerDayY4: 'AAI Sizing'!$G$7
Name JobRunsPerDayY5: 'AAI Sizing'!$H$7
Name MaxPercentMemUtilization: Initial!$G$3
Name MemoryForJobRuns: Initial!$L$13
Name MemoryGBForOS: 'AAI Sizing'!$C$14
Name MemoryJobDefsIWSJobs: Initial!$J$12
Name MemoryJobDefsNonIWSJobs: Initial!$H$12
Name MemoryNonIWSJobs: Initial!$H$12
Name MemoryPredictionGraphIWSJobs: Initial!$J$14
Name MemoryPredictionGraphNonIWSJobs: Initial!$H$14
Name NumberOfDaysOfHistory: 'AAI Sizing'!$C$9
Name NumberOfGraphsForIWS: Initial!$G$6
Name NumberOfGraphsForNonIWS: Initial!$G$4
Name NumberOfSchedulerInstances: 'AAI Sizing'!$C$6
Name PercentageOfJobRunGrowthPerYear: 'AAI Sizing'!$C$8
Name TotalMemoryForJobDefs: Initial!$H$17
Name TotalMemoryForJobDefsIWS: Initial!$J$17
Name TotalMemoryForJobDefsIWSJobs: Initial!$J$17
Name TotalMemoryForJobDefsNonIWS: Initial!$H$17
Name TotalMemoryForJobRuns: Initial!$L$17

Sheet AAI Sizing
A1: AAI Sizing Calculator
C2: Initial | D2: End of Year 1 | E2: End of Year 2 | F2: End of Year 3 | G2: End of Year 4 | H2: End of Year 5
A3: Total number of jobs in all instances of AutoSys, Automic, BMC, CA7, ESP, Tidal (non-IWS schedulers) | B3: Enter this value -----> | C3: 100000 | D3: ='Y1'!B3 -> 101000 | E3: ='Y2'!B3 -> 102010 | F3: ='Y3'!B3 -> 103030.1 | G3: ='Y4'!B3 -> 104060.4 | H3: ='Y5'!B3 -> 105101.01
A4: Total number of jobs in IWS scheduler instances | B4: Enter this value -----> | C4: 0 | D4: ='Y1'!$B$4 -> 0 | E4: ='Y2'!$B$4 -> 0 | F4: ='Y3'!$B$4 -> 0 | G4: ='Y4'!$B$4 -> 0 | H4: ='Y5'!$B$4 -> 0
A5: Percentage of job count growth per year (e.g. 5%) | B5: Enter this value -----> | C5: 0.01 | D5: =C5 -> 0.01 | E5: =D5 -> 0.01 | F5: =E5 -> 0.01 | G5: =F5 -> 0.01 | H5: =G5 -> 0.01
A6: Total number of scheduler instances connected to this AAI server | B6: Enter this value -----> | C6: 1 | D6: ='Y1'!B5 -> 1 | E6: ='Y2'!B5 -> 1 | F6: ='Y3'!B5 -> 1 | G6: ='Y4'!B5 -> 1 | H6: ='Y5'!B5 -> 1
A7: Total number of job runs per day in all scheduler instances connected | B7: Enter this value -----> | C7: 100000 | D7: =C7*(1+D8) -> 101000 | E7: =D7*(1+E8) -> 102010 | F7: =E7*(1+F8) -> 103030.1 | G7: =F7*(1+G8) -> 104060.4 | H7: =G7*(1+H8) -> 105101.01
A8: Percentage of job run growth per year (e.g. 10%) | B8: Enter this value -----> | C8: 0.01 | D8: =C8 -> 0.01 | E8: =D8 -> 0.01 | F8: =E8 -> 0.01 | G8: =F8 -> 0.01 | H8: =G8 -> 0.01
A9: Number of days of history retention | B9: Enter this value -----> | C9: 365 | D9: =C9 -> 365 | E9: =D9 -> 365 | F9: =E9 -> 365 | G9: =F9 -> 365 | H9: =G9 -> 365
A10: Hours of completed job runs in memory (server parameter recentRunsDuration: default 48 hours) | B10: Enter this value -----> | C10: 48 | D10: ='Y1'!B7 -> 48 | E10: ='Y2'!B7 -> 48 | F10: ='Y3'!B7 -> 48 | G10: ='Y4'!B7 -> 48 | H10: ='Y5'!B7 -> 48
A11: Hours of forecasted job runs in memory (server parameter forecastPeriod: default 48 hours) | B11: Enter this value -----> | C11: 48 | D11: ='Y1'!B8 -> 48 | E11: ='Y2'!B8 -> 48 | F11: ='Y3'!B8 -> 48 | G11: ='Y4'!B8 -> 48 | H11: ='Y5'!B8 -> 48
A13: AAI Platform Server | C13: Initial | D13: End of Year 1 | E13: End of Year 2 | F13: End of Year 3 | G13: End of Year 4 | H13: End of Year 5
A14: Amount of memory necessary to run the operating system and other required software (GB) | B14: Enter this value -----> | C14: 6 | D14: =C14 -> 6 | E14: =D14 -> 6 | F14: =E14 -> 6 | G14: =F14 -> 6 | H14: =G14 -> 6
A15: Minimum total memory on the AAI Platform Server host | C15: =Initial!L18 -> 33 | D15: ='Y1'!L20 -> 34 | E15: ='Y2'!L20 -> 34 | F15: ='Y3'!L20 -> 34 | G15: ='Y4'!L20 -> 34 | H15: ='Y5'!L20 -> 34
A16: Minimum memory allocated to the AAI Platform Server process (-Xmx) | C16: =Initial!L18-MemoryGBForOS -> 27 | D16: ='Y1'!L20-MemoryGBForOS -> 28 | E16: ='Y2'!L20-MemoryGBForOS -> 28 | F16: ='Y3'!L20-MemoryGBForOS -> 28 | G16: ='Y4'!L20-MemoryGBForOS -> 28 | H16: ='Y5'!L20-MemoryGBForOS -> 28
A17: Minimum CPU cores for the AAI Platform Server host | C17: =Initial!D10 -> 5 | D17: ='Y1'!D10 -> 5 | E17: ='Y2'!D10 -> 5 | F17: ='Y3'!D10 -> 5 | G17: ='Y4'!D10 -> 5 | H17: ='Y5'!D10 -> 5
A18: Minimum of free file system storage | C18: =Initial!D11 -> 100 | D18: ='Y1'!D11 -> 100 | E18: ='Y2'!D11 -> 100 | F18: ='Y3'!D11 -> 100 | G18: ='Y4'!D11 -> 100 | H18: ='Y5'!D11 -> 100
A20: AAI Connector Server (calculate separately for each scheduler type: Automic, BMC, ESP, IWS) | C20: Initial | D20: End of Year 1 | E20: End of Year 2 | F20: End of Year 3 | G20: End of Year 4 | H20: End of Year 5
A21: Amount of memory necessary to run the operating system and other required software (GB) | B21: Enter this value -----> | C21: 6 | D21: =C21 -> 6 | E21: =D21 -> 6 | F21: =E21 -> 6 | G21: =F21 -> 6 | H21: =G21 -> 6
A22: Minimum total memory on the AAI Connector Server host | C22: =Initial!D13+C21 -> 22 | D22: =('Y1'!D13+D21) -> 22 | E22: =('Y2'!D13+E21) -> 22 | F22: =('Y3'!D13+F21) -> 22 | G22: =('Y4'!D13+G21) -> 22 | H22: =('Y5'!D13+H21) -> 22
A23: Minimum memory allocated to the AAI Connector Process | C23: =(Initial!D13) -> 16 | D23: =Initial!D13 -> 16 | E23: =Initial!D13 -> 16 | F23: =Initial!D13 -> 16 | G23: =Initial!D13 -> 16 | H23: =Initial!D13 -> 16
A24: Minimum CPU cores for the Connector Server host | C24: =Initial!$D$14 -> 4 | D24: =Initial!$D$14 -> 4 | E24: =Initial!$D$14 -> 4 | F24: =Initial!$D$14 -> 4 | G24: =Initial!$D$14 -> 4 | H24: =Initial!$D$14 -> 4
A25: Minimum of free file system storage | C25: =Initial!D15 -> 100 | D25: ='Y1'!D15 -> 100 | E25: ='Y2'!D15 -> 100 | F25: ='Y3'!D15 -> 100 | G25: ='Y4'!D15 -> 100 | H25: ='Y5'!D15 -> 100
A27: AAI Reporting Server | C27: Initial | D27: End of Year 1 | E27: End of Year 2 | F27: End of Year 3 | G27: End of Year 4 | H27: End of Year 5
A28: Amount of memory necessary to run the operating system and other required software (GB) | B28: Enter this value -----> | C28: 6 | D28: =C28 -> 6 | E28: =D28 -> 6 | F28: =E28 -> 6 | G28: =F28 -> 6 | H28: =G28 -> 6
A29: Minimum total memory on the AAI Reporting Server host | C29: =(Initial!D19+C28) -> 22 | D29: =('Y1'!D19+D28) -> 22 | E29: =('Y2'!D19+E28) -> 22 | F29: =('Y3'!D19+F28) -> 22 | G29: =('Y4'!D19+G28) -> 22 | H29: ='Y5'!D19+H28 -> 22
A30: Minimum memory allocated to the AAI Reporting Server process (Tomcat) | C30: =Initial!D19 -> 16 | D30: ='Y1'!D19 -> 16 | E30: ='Y2'!D19 -> 16 | F30: ='Y3'!D19 -> 16 | G30: ='Y4'!D19 -> 16 | H30: ='Y5'!D19 -> 16
A31: Minimum CPU cores for the AAI Reporting Server host | C31: =Initial!D20 -> 4 | D31: ='Y1'!D20 -> 4 | E31: ='Y2'!D20 -> 4 | F31: ='Y3'!D20 -> 4 | G31: ='Y4'!D20 -> 4 | H31: ='Y5'!D20 -> 4
A32: Minimum of free file system storage | C32: =(50) -> 50 | D32: =(50) -> 50 | E32: =(50) -> 50 | F32: =(50) -> 50 | G32: =(50) -> 50 | H32: =(50) -> 50
A34: Oracle DB Tablespace Sizing | C34: Initial | D34: End of Year 1 | E34: End of Year 2 | F34: End of Year 3 | G34: End of Year 4 | H34: End of Year 5
A35: Oracle DATA Tablespace Size | C35: =Initial!D25 -> 18 | D35: ='Y1'!D25 -> 19 | E35: ='Y2'!D25 -> 19 | F35: ='Y3'!D25 -> 19 | G35: ='Y4'!D25 -> 19 | H35: ='Y5'!D25 -> 19
A36: Oracle INDEX Tablespace Size | C36: =Initial!D26 -> 36 | D36: ='Y1'!D26 -> 37 | E36: ='Y2'!D26 -> 37 | F36: ='Y3'!D26 -> 37 | G36: ='Y4'!D26 -> 38 | H36: ='Y5'!D26 -> 38
A37: Oracle TEMP Tablespace Size | C37: =Initial!D27 -> 5 | D37: ='Y1'!D27 -> 5 | E37: ='Y2'!D27 -> 5 | F37: ='Y3'!D27 -> 5 | G37: ='Y4'!D27 -> 5 | H37: ='Y5'!D27 -> 5
A39: MS SQL Server Data File Sizing | C39: Initial | D39: End of Year 1 | E39: End of Year 2 | F39: End of Year 3 | G39: End of Year 4 | H39: End of Year 5
A40: SQL Server DATA File Size | C40: =Initial!D30 -> 125 | D40: ='Y1'!D30 -> 127 | E40: ='Y2'!D30 -> 128 | F40: ='Y3'!D30 -> 129 | G40: ='Y4'!D30 -> 130 | H40: ='Y5'!D30 -> 132
A41: SQL Server LOG File Size | C41: =Initial!D31 -> 63 | D41: ='Y1'!D31 -> 64 | E41: ='Y2'!D31 -> 64 | F41: ='Y3'!D31 -> 65 | G41: ='Y4'!D31 -> 65 | H41: ='Y5'!D31 -> 66

Sheet Initial
A1: Terma Analytics Server Sizing Worksheet
F2: Bytes per job definition | G2: =4096*8 -> 32768
A3: Total number of non-IWS jobs | B3: =JobDefinitionCountNonIWS -> 100000 | F3: Maximum % of memory utilization in AAI (headroom) | G3: 0.5
A4: Total number of IWS jobs | B4: =JobDefinitionCountIWS -> 0 | F4: Graphs for all schedulers | G4: 2
A5: Total number of Schedulers | B5: =NumberOfSchedulerInstances -> 1 | F5: Bytes per job run | G5: =4096+2048 -> 6144
A6: Number of Days of History Retention | B6: =DaysOfHistoryRetention -> 365 | F6: IWS environments (plan dates) | G6: 5
A7: Hours of completed job runs in memory | B7: =HoursOfCompletedRunsInMemory -> 48 | F7: Basic minimum Memory (GB) | G7: 8
A8: Hours of forecasted job runs in memory | B8: =HoursOfForecastedRunsInMemory -> 48 | F8: Bytes per job in the graph | G8: =16384+2048 -> 18432
H9: Non-IWS | J9: IWS | L9: All Job Runs in AAI
A10: Terma ANALYTICS Platform Server | C10: Platform Server Recommended CPU Cores | D10: =IF(4+B5>32,32, 4+B5) -> 5
C11: Platform file system storage | D11: =IF(B3+B4<1000000,100,IF(B3+B4<2500000,200,IF(B3+B4<5000000,400,800))) -> 100
F12: Memory for job definitions | H12: =(JobCountNonIWS*BytesPerJobDefinition)/1000000 -> 3276.8 | I12: MB | J12: =(IWSJobCountInitial*BytesPerJobDefinition)/1000000 -> 0 | K12: MB
A13: AAI Connector Server | C13: Recommended Memory | D13: =IF(B3+B4<1000000,16,IF(B3+B4<2500000,32,IF(B3+B4<5000000,64,128))) -> 16 | F13: Memory for job runs | L13: =((JobRunsPerDayInitial*BytesPerJobRun)*((HoursOfCompletedRunsInMemory+HoursOfForecastedRunsInMemory)/24))/1000000 -> 2457.6 | M13: MB
C14: CPU Cores | D14: =IF(B3+B4<1000000,4,IF(B3+B4<2500000,8,IF(B3+B4<5000000,16,32))) -> 4 | F14: Memory for the prediction graph | H14: =(JobCountNonIWS*BytesPerJobInTheGraph*NumberOfGraphsForNonIWS)/1000000 -> 3686.4 | I14: MB | J14: =(IWSJobCountInitial*BytesPerJobInTheGraph*NumberOfGraphsForIWS)/1000000 -> 0 | K14: MB
C15: File system storage | D15: =IF(B3+B4<1000000,100,IF(B3+B4<2500000,200,IF(B3+B4<5000000,400,800))) -> 100
H17: =SUM(MemoryJobDefsNonIWSJobs,MemoryPredictionGraphNonIWSJobs)/1000 -> 6.9632 | I17: GB | J17: =SUM(MemoryJobDefsIWSJobs,MemoryPredictionGraphIWSJobs)/1000 -> 0 | K17: GB | L17: =MemoryForJobRuns/1000 -> 2.4576 | M17: GB
F18: Recommendation | L18: =MemoryGBForOS+BasicMinMemory+ROUNDUP((TotalMemoryForJobDefsNonIWS+TotalMemoryForJobDefsIWS+TotalMemoryForJobRuns)/MaxPercentMemUtilization,0) -> 33
A19: AAI Reporting Server | C19: Recommended Memory | D19: =IF(B3+B4<250000, 16, IF(B3+B4<500000, 24,IF(B3+B4<1000000, 32,IF(B3+B4<2500000, 48, IF(B3+B4<5000000,56,64))))) -> 16
C20: Recommended CPU Cores | D20: =IF(B3+B4<250000, 4, IF(B3+B4<500000, 6,IF(B3+B4<1000000, 8,IF(B3+B4<2500000, 10, IF(B3+B4<5000000,12,16))))) -> 4
A25: Oracle DB Tablespace Sizing | C25: Oracle DATA Tablespace Size | D25: =ROUNDUP(CEILING((DaysOfHistoryRetention*(B3+B4))/1000 *0.5,1024)/1024,0) -> 18
C26: Oracle INDEX Tablespace Size | D26: =ROUNDUP(CEILING((B6*(B3+B4))/1000,1024)/1024,0) -> 36
C27: Oracle TEMP Tablespace Size | D27: =(ROUNDUP(CEILING((B6*(B3+B4))/1000*0.5,1024)/4/1024,0)) -> 5
A30: MS SQL Server Data File Sizing | C30: SQL Server DATA File Size | D30: =ROUNDUP(CEILING(B6*(B3+B4)/1000 *3.5,1024)/1024,0) -> 125
C31: SQL Server LOG File Size | D31: =ROUNDUP(CEILING(B6*(B3+B4)/1000 *3.5,1024)/1024/2,0) -> 63

Sheet Y1
A1: Terma Analytics Server Sizing Worksheet
A3: Total number of Jobs | B3: =Initial!B3*(1+'AAI Sizing'!D5) -> 101000
A4: Total number of IWS jobs | B4: =Initial!B4*(1+'AAI Sizing'!D5) -> 0
A5: Total number of Schedulers | B5: =Initial!B5 -> 1
A6: Number of Days of History Retention | B6: =Initial!B6 -> 365
A7: Hours of job runs in memory | B7: =Initial!B7 -> 48
A8: Hours of forecasted job runs in memory | B8: =Initial!B8 -> 48
A10: Terma ANALYTICS Platform Server | C10: Platform Server Recommended CPU Cores | D10: =IF(4+B5>32, 32, 4+B5) -> 5
C11: Platform file system storage | D11: =IF(B3+B4<1000000,100,IF(B3+B4<2500000,200,IF(B3+B4<5000000,400,800))) -> 100 | H11: Non-IWS | J11: IWS | L11: All Job Runs in AAI
A13: AAI Connector Server | C13: Recommended Memory | D13: =IF(B3+B4<1000000,16,IF(B3+B4<2500000,32,IF(B3+B4<5000000,64,128))) -> 16
C14: CPU Cores | D14: =IF(B3+B4<1000000,4,IF(B3+B4<2500000,8,IF(B3+B4<5000000,16,32))) -> 4 | F14: Memory for job definitions | H14: =(JobCountY1*BytesPerJobDefinition)/1000000 -> 3309.568 | I14: MB | J14: =(IWSJobCountY1*BytesPerJobDefinition)/1000000 -> 0 | K14: MB
C15: File system storage | D15: =IF(B3+B4<1000000,100,IF(B3+B4<2500000,200,IF(B3+B4<5000000,400,800))) -> 100 | F15: Memory for job runs | L15: =((JobRunsPerDayY1*BytesPerJobRun)*((HoursOfCompletedRunsInMemory+HoursOfForecastedRunsInMemory)/24))/1000000 -> 2482.176 | M15: MB
F16: Memory for the prediction graph | H16: =(JobCountY1*BytesPerJobInTheGraph*NumberOfGraphsForNonIWS)/1000000 -> 3723.264 | I16: MB | J16: =IWSJobCountY1*BytesPerJobInTheGraph*NumberOfGraphsForIWS/1000000 -> 0 | K16: MB
A19: AAI Reporting Server | C19: Recommended Memory | D19: =IF(B3+B4<250000, 16, IF(B3+B4<500000, 24,IF(B3+B4<1000000, 32,IF(B3+B4<2500000, 48, IF(B3+B4<5000000,56,64))))) -> 16 | H19: =SUM(H14:H16)/1000 -> 7.032832 | I19: GB | J19: =SUM(J14:J16)/1000 -> 0 | K19: GB | L19: =L15/1000 -> 2.482176 | M19: GB
C20: Recommended CPU Cores | D20: =IF(B3+B4<250000, 4, IF(B3+B4<500000, 6,IF(B3+B4<1000000, 8,IF(B3+B4<2500000, 10, IF(B3+B4<5000000,12,16))))) -> 4 | F20: Recommendation | L20: =MemoryGBForOS+BasicMinMemory+ROUNDUP((H19+J19+L19)/MaxPercentMemUtilization,0) -> 34
A25: Oracle DB Tablespace Sizing | C25: Oracle DATA Tablespace Size | D25: =ROUNDUP(CEILING((B6*(B3+B4))/1000 *0.5,1024)/1024,0) -> 19
C26: Oracle INDEX Tablespace Size | D26: =ROUNDUP(CEILING((B6*(B3+B4))/1000,1024)/1024,0) -> 37
C27: Oracle TEMP Tablespace Size | D27: =ROUNDUP(CEILING((B6*(B3+B4))/1000 *0.5,1024)/4/1024,0) -> 5
A30: MS SQL Server Data File Sizing | C30: SQL Server DATA File Size | D30: =ROUNDUP(CEILING(B6*(B3+B4)/1000 *3.5,1024)/1024,0) -> 127
C31: SQL Server LOG File Size | D31: =ROUNDUP(CEILING(B6*(B3+B4)/1000 *3.5,1024)/1024/2,0) -> 64

Sheet Y2
A1: Terma Analytics Server Sizing Worksheet
A3: Total number of Jobs | B3: ='Y1'!B3*(1+'AAI Sizing'!E5) -> 102010
A4: Total number of IWS jobs | B4: ='Y1'!B4*(1+'AAI Sizing'!E5) -> 0
A5: Total number of Schedulers | B5: ='Y1'!B5 -> 1
A6: Number of Days of History Retention | B6: ='Y1'!B6 -> 365
A7: Hours of job runs in memory | B7: ='Y1'!B7 -> 48
A8: Hours of forecasted job runs in memory | B8: ='Y1'!B8 -> 48
A10: Terma ANALYTICS Platform Server | C10: Platform Server Recommended CPU Cores | D10: =IF(4+B5>32, 32, 4+B5) -> 5
C11: Platform file system storage | D11: =IF(B3+B4<1000000,100,IF(B3+B4<2500000,200,IF(B3+B4<5000000,400,800))) -> 100 | H11: Non-IWS | J11: IWS | L11: All Job Runs in AAI
A13: AAI Connector Server | C13: Recommended Memory | D13: =IF(B3+B4<1000000,16,IF(B3+B4<2500000,32,IF(B3+B4<5000000,64,128))) -> 16
C14: CPU Cores | D14: =IF(B3+B4<1000000,4,IF(B3+B4<2500000,8,IF(B3+B4<5000000,16,32))) -> 4 | F14: Memory for job definitions | H14: =($B$3*BytesPerJobDefinition)/1000000 -> 3342.6637 | I14: MB | J14: =($B$4*BytesPerJobDefinition)/1000000 -> 0 | K14: MB
C15: File system storage | D15: =IF(B3+B4<1000000,100,IF(B3+B4<2500000,200,IF(B3+B4<5000000,400,800))) -> 100 | F15: Memory for job runs | L15: =((JobRunsPerDayY2*BytesPerJobRun)*((HoursOfCompletedRunsInMemory+HoursOfForecastedRunsInMemory)/24))/1000000 -> 2506.9978 | M15: MB
F16: Memory for the prediction graph | H16: =($B$3*BytesPerJobInTheGraph*NumberOfGraphsForNonIWS)/1000000 -> 3760.4966 | I16: MB | J16: =$B$4*BytesPerJobInTheGraph*NumberOfGraphsForIWS/1000000 -> 0 | K16: MB
A19: AAI Reporting Server | C19: Recommended Memory | D19: =IF(B3+B4<250000, 16, IF(B3+B4<500000, 24,IF(B3+B4<1000000, 32,IF(B3+B4<2500000, 48, IF(B3+B4<5000000,56,64))))) -> 16 | H19: =SUM(H14:H16)/1000 -> 7.1031603 | I19: GB | J19: =SUM(J14:J16)/1000 -> 0 | K19: GB | L19: =L15/1000 -> 2.5069978 | M19: GB
C20: Recommended CPU Cores | D20: =IF(B3+B4<250000, 4, IF(B3+B4<500000, 6,IF(B3+B4<1000000, 8,IF(B3+B4<2500000, 10, IF(B3+B4<5000000,12,16))))) -> 4 | F20: Recommendation | L20: =MemoryGBForOS+BasicMinMemory+ROUNDUP((H19+J19+L19)/MaxPercentMemUtilization,0) -> 34
A25: Oracle DB Tablespace Sizing | C25: Oracle DATA Tablespace Size | D25: =ROUNDUP(CEILING((B6*(B3+B4))/1000 *0.5,1024)/1024,0) -> 19
C26: Oracle INDEX Tablespace Size | D26: =ROUNDUP(CEILING((B6*(B3+B4))/1000,1024)/1024,0) -> 37
C27: Oracle TEMP Tablespace Size | D27: =ROUNDUP(CEILING((B6*(B3+B4))/1000 *0.5,1024)/4/1024,0) -> 5
A30: MS SQL Server Data File Sizing | C30: SQL Server DATA File Size | D30: =ROUNDUP(CEILING(B6*(B3+B4)/1000 *3.5,1024)/1024,0) -> 128
C31: SQL Server LOG File Size | D31: =ROUNDUP(CEILING(B6*(B3+B4)/1000 *3.5,1024)/1024/2,0) -> 64

Sheet Y3
A1: Terma Analytics Server Sizing Worksheet
A3: Total number of Jobs | B3: ='Y2'!B3*(1+'AAI Sizing'!F5) -> 103030.1
A4: Total number of IWS jobs | B4: ='Y2'!B4*(1+'AAI Sizing'!F5) -> 0
A5: Total number of Schedulers | B5: ='Y2'!B5 -> 1
A6: Number of Days of History Retention | B6: ='Y2'!B6 -> 365
A7: Hours of job runs in memory | B7: ='Y2'!B7 -> 48
A8: Hours of forecasted job runs in memory | B8: ='Y2'!B8 -> 48
A10: Terma ANALYTICS Platform Server | C10: Platform Server Recommended CPU Cores | D10: =IF(4+B5>32, 32, 4+B5) -> 5
C11: Platform file system storage | D11: =IF(B3+B4<1000000,100,IF(B3+B4<2500000,200,IF(B3+B4<5000000,400,800))) -> 100 | H11: Non-IWS | J11: IWS | L11: All Job Runs in AAI
A13: AAI Connector Server | C13: Recommended Memory | D13: =IF(B3+B4<1000000,16,IF(B3+B4<2500000,32,IF(B3+B4<5000000,64,128))) -> 16
C14: CPU Cores | D14: =IF(B3+B4<1000000,4,IF(B3+B4<2500000,8,IF(B3+B4<5000000,16,32))) -> 4 | F14: Memory for job definitions | H14: =($B$3*BytesPerJobDefinition)/1000000 -> 3376.0903 | I14: MB | J14: =($B$4*BytesPerJobDefinition)/1000000 -> 0 | K14: MB
C15: File system storage | D15: =IF(B3+B4<1000000,100,IF(B3+B4<2500000,200,IF(B3+B4<5000000,400,800))) -> 100 | F15: Memory for job runs | L15: =((JobRunsPerDayY3*BytesPerJobRun)*((HoursOfCompletedRunsInMemory+HoursOfForecastedRunsInMemory)/24))/1000000 -> 2532.0677 | M15: MB
F16: Memory for the prediction graph | H16: =($B$3*BytesPerJobInTheGraph*NumberOfGraphsForNonIWS)/1000000 -> 3798.1016 | I16: MB | J16: =$B$4*BytesPerJobInTheGraph*NumberOfGraphsForIWS/1000000 -> 0 | K16: MB
A19: AAI Reporting Server | C19: Recommended Memory | D19: =IF(B3+B4<250000, 16, IF(B3+B4<500000, 24,IF(B3+B4<1000000, 32,IF(B3+B4<2500000, 48, IF(B3+B4<5000000,56,64))))) -> 16 | H19: =SUM(H14:H16)/1000 -> 7.1741919 | I19: GB | J19: =SUM(J14:J16)/1000 -> 0 | K19: GB | L19: =L15/1000 -> 2.5320677 | M19: GB
C20: Recommended CPU Cores | D20: =IF(B3+B4<250000, 4, IF(B3+B4<500000, 6,IF(B3+B4<1000000, 8,IF(B3+B4<2500000, 10, IF(B3+B4<5000000,12,16))))) -> 4 | F20: Recommendation | L20: =MemoryGBForOS+BasicMinMemory+ROUNDUP((H19+J19+L19)/MaxPercentMemUtilization,0) -> 34
A25: Oracle DB Tablespace Sizing | C25: Oracle DATA Tablespace Size | D25: =ROUNDUP(CEILING((B6*(B3+B4))/1000 *0.5,1024)/1024,0) -> 19
C26: Oracle INDEX Tablespace Size | D26: =ROUNDUP(CEILING((B6*(B3+B4))/1000,1024)/1024,0) -> 37
C27: Oracle TEMP Tablespace Size | D27: =ROUNDUP(CEILING((B6*(B3+B4))/1000 *0.5,1024)/4/1024,0) -> 5
A30: MS SQL Server Data File Sizing | C30: SQL Server DATA File Size | D30: =ROUNDUP(CEILING(B6*(B3+B4)/1000 *3.5,1024)/1024,0) -> 129
C31: SQL Server LOG File Size | D31: =ROUNDUP(CEILING(B6*(B3+B4)/1000 *3.5,1024)/1024/2,0) -> 65

Sheet Y4
A1: Terma Analytics Server Sizing Worksheet
A3: Total number of Jobs | B3: ='Y3'!B3*(1+'AAI Sizing'!G5) -> 104060.4
A4: Total number of IWS jobs | B4: ='Y3'!B4*(1+'AAI Sizing'!G5) -> 0
A5: Total number of Schedulers | B5: ='Y3'!B5 -> 1
A6: Number of Days of History Retention | B6: ='Y3'!B6 -> 365
A7: Hours of job runs in memory | B7: ='Y3'!B7 -> 48
A8: Hours of forecasted job runs in memory | B8: ='Y3'!B8 -> 48
A10: Terma ANALYTICS Platform Server | C10: Platform Server Recommended CPU Cores | D10: =IF(4+B5>32, 32, 4+B5) -> 5
C11: Platform file system storage | D11: =IF(B3+B4<1000000,100,IF(B3+B4<2500000,200,IF(B3+B4<5000000,400,800))) -> 100 | H11: Non-IWS | J11: IWS | L11: All Job Runs in AAI
A13: AAI Connector Server | C13: Recommended Memory | D13: =IF(B3+B4<1000000,16,IF(B3+B4<2500000,32,IF(B3+B4<5000000,64,128))) -> 16
C14: CPU Cores | D14: =IF(B3+B4<1000000,4,IF(B3+B4<2500000,8,IF(B3+B4<5000000,16,32))) -> 4 | F14: Memory for job definitions | H14: =($B$3*BytesPerJobDefinition)/1000000 -> 3409.8512 | I14: MB | J14: =($B$4*BytesPerJobDefinition)/1000000 -> 0 | K14: MB
C15: File system storage | D15: =IF(B3+B4<1000000,100,IF(B3+B4<2500000,200,IF(B3+B4<5000000,400,800))) -> 100 | F15: Memory for job runs | L15: =((JobRunsPerDayY4*BytesPerJobRun)*((HoursOfCompletedRunsInMemory+HoursOfForecastedRunsInMemory)/24))/1000000 -> 2557.3884 | M15: MB
F16: Memory for the prediction graph | H16: =($B$3*BytesPerJobInTheGraph*NumberOfGraphsForNonIWS)/1000000 -> 3836.0826 | I16: MB | J16: =$B$4*BytesPerJobInTheGraph*NumberOfGraphsForIWS/1000000 -> 0 | K16: MB
A19: AAI Reporting Server | C19: Recommended Memory | D19: =IF(B3+B4<250000, 16, IF(B3+B4<500000, 24,IF(B3+B4<1000000, 32,IF(B3+B4<2500000, 48, IF(B3+B4<5000000,56,64))))) -> 16 | H19: =SUM(H14:H16)/1000 -> 7.2459338 | I19: GB | J19: =SUM(J14:J16)/1000 -> 0 | K19: GB | L19: =L15/1000 -> 2.5573884 | M19: GB
C20: Recommended CPU Cores | D20: =IF(B3+B4<250000, 4, IF(B3+B4<500000, 6,IF(B3+B4<1000000, 8,IF(B3+B4<2500000, 10, IF(B3+B4<5000000,12,16))))) -> 4 | F20: Recommendation | L20: =MemoryGBForOS+BasicMinMemory+ROUNDUP((H19+J19+L19)/MaxPercentMemUtilization,0) -> 34
A25: Oracle DB Tablespace Sizing | C25: Oracle DATA Tablespace Size | D25: =ROUNDUP(CEILING((B6*(B3+B4))/1000 *0.5,1024)/1024,0) -> 19
C26: Oracle INDEX Tablespace Size | D26: =ROUNDUP(CEILING((B6*(B3+B4))/1000,1024)/1024,0) -> 38
C27: Oracle TEMP Tablespace Size | D27: =ROUNDUP(CEILING((B6*(B3+B4))/1000 *0.5,1024)/4/1024,0) -> 5
A30: MS SQL Server Data File Sizing | C30: SQL Server DATA File Size | D30: =ROUNDUP(CEILING(B6*(B3+B4)/1000 *3.5,1024)/1024,0) -> 130
C31: SQL Server LOG File Size | D31: =ROUNDUP(CEILING(B6*(B3+B4)/1000 *3.5,1024)/1024/2,0) -> 65

Sheet Y5
A1: Terma Analytics Server Sizing Worksheet
A3: Total number of Jobs | B3: ='Y4'!B3*(1+'AAI Sizing'!H5) -> 105101.01
A4: Total number of IWS jobs | B4: ='Y4'!B4*(1+'AAI Sizing'!H5) -> 0
A5: Total number of Schedulers | B5: ='Y3'!B5 -> 1
A6: Number of Days of History Retention | B6: ='Y3'!B6 -> 365
A7: Hours of job runs in memory | B7: ='Y4'!B7 -> 48
A8: Hours of forecasted job runs in memory | B8: ='Y4'!B8 -> 48
A10: Terma ANALYTICS Platform Server | C10: Platform Server Recommended CPU Cores | D10: =IF(4+B5>32, 32, 4+B5) -> 5
C11: Platform file system storage | D11: =IF(B3+B4<1000000,100,IF(B3+B4<2500000,200,IF(B3+B4<5000000,400,800))) -> 100 | H11: Non-IWS | J11: IWS | L11: All Job Runs in AAI
A13: AAI Connector Server | C13: Recommended Memory | D13: =IF(B3+B4<1000000,16,IF(B3+B4<2500000,32,IF(B3+B4<5000000,64,128))) -> 16
C14: CPU Cores | D14: =IF(B3+B4<1000000,4,IF(B3+B4<2500000,8,IF(B3+B4<5000000,16,32))) -> 4 | F14: Memory for job definitions | H14: =($B$3*BytesPerJobDefinition)/1000000 -> 3443.9497 | I14: MB | J14: =($B$4*BytesPerJobDefinition)/1000000 -> 0 | K14: MB
C15: File system storage | D15: =IF(B3+B4<1000000,100,IF(B3+B4<2500000,200,IF(B3+B4<5000000,400,800))) -> 100 | F15: Memory for job runs | L15: =((JobRunsPerDayY5*BytesPerJobRun)*((HoursOfCompletedRunsInMemory+HoursOfForecastedRunsInMemory)/24))/1000000 -> 2582.9623 | M15: MB
F16: Memory for the prediction graph | H16: =($B$3*BytesPerJobInTheGraph*NumberOfGraphsForNonIWS)/1000000 -> 3874.4434 | I16: MB | J16: =$B$4*BytesPerJobInTheGraph*NumberOfGraphsForIWS/1000000 -> 0 | K16: MB
A19: AAI Reporting Server | C19: Recommended Memory | D19: =IF(B3+B4<250000, 16, IF(B3+B4<500000, 24,IF(B3+B4<1000000, 32,IF(B3+B4<2500000, 48, IF(B3+B4<5000000,56,64))))) -> 16 | H19: =SUM(H14:H16)/1000 -> 7.3183932 | I19: GB | J19: =SUM(J14:J16)/1000 -> 0 | K19: GB | L19: =L15/1000 -> 2.5829623 | M19: GB
C20: Recommended CPU Cores | D20: =IF(B3+B4<250000, 4, IF(B3+B4<500000, 6,IF(B3+B4<1000000, 8,IF(B3+B4<2500000, 10, IF(B3+B4<5000000,12,16))))) -> 4 | F20: Recommendation | L20: =MemoryGBForOS+BasicMinMemory+ROUNDUP((H19+J19+L19)/MaxPercentMemUtilization,0) -> 34
A25: Oracle DB Tablespace Sizing | C25: Oracle DATA Tablespace Size | D25: =ROUNDUP(CEILING((B6*(B3+B4))/1000 *0.5,1024)/1024,0) -> 19
C26: Oracle INDEX Tablespace Size | D26: =ROUNDUP(CEILING((B6*(B3+B4))/1000,1024)/1024,0) -> 38
C27: Oracle TEMP Tablespace Size | D27: =ROUNDUP(CEILING((B6*(B3+B4))/1000 *0.5,1024)/4/1024,0) -> 5
A30: MS SQL Server Data File Sizing | C30: SQL Server DATA File Size | D30: =ROUNDUP(CEILING(B6*(B3+B4)/1000 *3.5,1024)/1024,0) -> 132
C31: SQL Server LOG File Size | D31: =ROUNDUP(CEILING(B6*(B3+B4)/1000 *3.5,1024)/1024/2,0) -> 66
